BEGIN:VCALENDAR
VERSION:2.0
PRODID:-//Plone.org//NONSGML plone.app.event//EN
X-WR-TIMEZONE:Europe/Madrid
BEGIN:VEVENT
SUMMARY:Sortida a la Neu
DTSTART;TZID=Europe/Madrid;VALUE=DATE-TIME:20080120T063000
DTEND;TZID=Europe/Madrid;VALUE=DATE-TIME:20080120T073000
DTSTAMP;VALUE=DATE-TIME:20260419T210409Z
UID:418adbeee544048a8c73fb48693c1ff8
CREATED;VALUE=DATE-TIME:20080120T000000Z
LOCATION:Sortida amb autocar davant el CAP
ORGANIZER:Secció Esportiva
COMMENT:Preu: 20 euros (No inclou forfait, lloguer de material ni dinar)
DESCRIPTION:Tuixent-Lavansa-El Solsonès
URL:https://ajllavaneres.cat/document.php?id=1000
END:VEVENT
END:VCALENDAR