BEGIN:VCALENDAR
VERSION:2.0
PRODID:-//Plone.org//NONSGML plone.app.event//EN
X-WR-TIMEZONE:Europe/Madrid
BEGIN:VEVENT
SUMMARY:II Aplec de Sant Sebastià
DTSTART;TZID=Europe/Madrid;VALUE=DATE-TIME:20080120T120000
DTEND;TZID=Europe/Madrid;VALUE=DATE-TIME:20080120T130000
DTSTAMP;VALUE=DATE-TIME:20260419T210439Z
UID:6a67e974577b17fe38c10bdfa669b572
CREATED;VALUE=DATE-TIME:20080120T000000Z
LOCATION:Pla de l'Ermita de Sant Sebastià
ORGANIZER:Secció de Cultura d'El Casal de Llavaneres
COMMENT:Preu: Gratuït
DESCRIPTION:Trobada al pla de l'Ermita
URL:https://ajllavaneres.cat/document.php?id=1001
END:VEVENT
END:VCALENDAR