BEGIN:VCALENDAR
VERSION:2.0
PRODID:-//Plone.org//NONSGML plone.app.event//EN
X-WR-TIMEZONE:Europe/Madrid
BEGIN:VEVENT
SUMMARY:Jornada Tot Esport
DTSTART;TZID=Europe/Madrid;VALUE=DATE-TIME:20160917T100000
DTEND;TZID=Europe/Madrid;VALUE=DATE-TIME:20160917T110000
DTSTAMP;VALUE=DATE-TIME:20260423T040131Z
UID:0011764ed1edf68313c597f7333a5435
CREATED;VALUE=DATE-TIME:20160917T000000Z
CATEGORIES:Esports,Mostra
LOCATION:Passeig de la Mare de Déu de Montserrat
ORGANIZER:Regidoria de Promoció Econòmica, Empresa, Comerç i Turisme i Regidoria d'Esports
COMMENT:Durada: Fins a les 20.30 hores
DESCRIPTION:Fira de material esportiu, clubs i centres esportius i activitats relacionades
URL:https://ajllavaneres.cat/document.php?id=10072
END:VEVENT
END:VCALENDAR