BEGIN:VCALENDAR
VERSION:2.0
PRODID:-//Plone.org//NONSGML plone.app.event//EN
X-WR-TIMEZONE:Europe/Madrid
BEGIN:VEVENT
SUMMARY:Fira d'Ocasions
DTSTART;TZID=Europe/Madrid;VALUE=DATE-TIME:20161203T090000
DTEND;TZID=Europe/Madrid;VALUE=DATE-TIME:20161203T100000
DTSTAMP;VALUE=DATE-TIME:20260420T042119Z
UID:3adb2b53fb58c99f87317beab7ec95df
CREATED;VALUE=DATE-TIME:20161203T000000Z
CATEGORIES:Mostra
LOCATION:Passeig de la Mare de Déu de Montserrat
ORGANIZER:Associació de les Llums
COMMENT:Durada: Fins al 4 desembre
URL:https://ajllavaneres.cat/document.php?id=10078
END:VEVENT
END:VCALENDAR