BEGIN:VCALENDAR
VERSION:2.0
PRODID:-//Plone.org//NONSGML plone.app.event//EN
X-WR-TIMEZONE:Europe/Madrid
BEGIN:VEVENT
SUMMARY:Exposició "Cuida't les dents"
DTSTART;TZID=Europe/Madrid;VALUE=DATE-TIME:20080116T000000
DTEND;TZID=Europe/Madrid;VALUE=DATE-TIME:20080116T010000
DTSTAMP;VALUE=DATE-TIME:20260419T210456Z
UID:1ec8ec8d0ad3f23ce9bd709c012c25ba
CREATED;VALUE=DATE-TIME:20080116T000000Z
CATEGORIES:Exposició
LOCATION:Sala d'exposicions de Ca l'Alfaro
ORGANIZER:Regidoria de Sanitat
COMMENT:Durada: Fins el 31 de gener de 2008
URL:https://ajllavaneres.cat/document.php?id=1015
END:VEVENT
END:VCALENDAR