BEGIN:VCALENDAR
VERSION:2.0
PRODID:-//Plone.org//NONSGML plone.app.event//EN
X-WR-TIMEZONE:Europe/Madrid
BEGIN:VEVENT
SUMMARY:Futbol 7 pre benjamí C
DTSTART;TZID=Europe/Madrid;VALUE=DATE-TIME:20080112T090000
DTEND;TZID=Europe/Madrid;VALUE=DATE-TIME:20080112T100000
DTSTAMP;VALUE=DATE-TIME:20260419T214150Z
UID:56f84910dca9b02a86f7911e8cf42b8c
CREATED;VALUE=DATE-TIME:20080112T000000Z
CATEGORIES:Esports
LOCATION:Camp municipal d'Esports
ORGANIZER:Escola de Llavaneres CF
DESCRIPTION:Escola de Llavaneres CF-Ca la Aguido CF
URL:https://ajllavaneres.cat/document.php?id=1017
END:VEVENT
END:VCALENDAR