BEGIN:VCALENDAR
VERSION:2.0
PRODID:-//Plone.org//NONSGML plone.app.event//EN
X-WR-TIMEZONE:Europe/Madrid
BEGIN:VEVENT
SUMMARY:Espectacle infantil: "La gallineta cega"
DTSTART;TZID=Europe/Madrid;VALUE=DATE-TIME:20160313T180000
DTEND;TZID=Europe/Madrid;VALUE=DATE-TIME:20160313T190000
DTSTAMP;VALUE=DATE-TIME:20260420T003937Z
UID:f1e9bba35ba4c1d1824158fb2b84f0ef
CREATED;VALUE=DATE-TIME:20160313T000000Z
CATEGORIES:Teatre
LOCATION:El Casal de Llavaneres ( Sala Polivalent )
ORGANIZER:Fundació Xarxa d'Espectacle Infantil i Juvenil de Catalunya
COMMENT:Preu: 4,00 &euro;
DESCRIPTION:A càrrec de Transeduca-Teatre Imaginari
URL:https://ajllavaneres.cat/document.php?id=10176
END:VEVENT
END:VCALENDAR