BEGIN:VCALENDAR
VERSION:2.0
PRODID:-//Plone.org//NONSGML plone.app.event//EN
X-WR-TIMEZONE:Europe/Madrid
BEGIN:VEVENT
SUMMARY:Futbol Infantil A
DTSTART;TZID=Europe/Madrid;VALUE=DATE-TIME:20080112T110000
DTEND;TZID=Europe/Madrid;VALUE=DATE-TIME:20080112T120000
DTSTAMP;VALUE=DATE-TIME:20260419T160026Z
UID:1bac52884e55bcb35fadc9c65fac606c
CREATED;VALUE=DATE-TIME:20080112T000000Z
CATEGORIES:Esports
LOCATION:Camp municipal d'Esports
ORGANIZER:Escola de Llavaneres CF
DESCRIPTION:Escola de Llavaneres CF-La Salle Premià AE
URL:https://ajllavaneres.cat/document.php?id=1018
END:VEVENT
END:VCALENDAR