BEGIN:VCALENDAR
VERSION:2.0
PRODID:-//Plone.org//NONSGML plone.app.event//EN
X-WR-TIMEZONE:Europe/Madrid
BEGIN:VEVENT
SUMMARY:Futbol Cadet
DTSTART;TZID=Europe/Madrid;VALUE=DATE-TIME:20080112T123000
DTEND;TZID=Europe/Madrid;VALUE=DATE-TIME:20080112T133000
DTSTAMP;VALUE=DATE-TIME:20260420T040023Z
UID:e9e46ed65d3aa92b8bf644f452cf1882
CREATED;VALUE=DATE-TIME:20080112T000000Z
CATEGORIES:Esports
LOCATION:Camp municipal d'Esports
ORGANIZER:Escola de Llavaneres CF
DESCRIPTION:Escola de Llavaneres CF-Susanenc CF
URL:https://ajllavaneres.cat/document.php?id=1019
END:VEVENT
END:VCALENDAR