BEGIN:VCALENDAR
VERSION:2.0
PRODID:-//Plone.org//NONSGML plone.app.event//EN
X-WR-TIMEZONE:Europe/Madrid
BEGIN:VEVENT
SUMMARY:Futbol 1r equip
DTSTART;TZID=Europe/Madrid;VALUE=DATE-TIME:20080113T121500
DTEND;TZID=Europe/Madrid;VALUE=DATE-TIME:20080113T131500
DTSTAMP;VALUE=DATE-TIME:20260420T022820Z
UID:398cf3efd3281345ce505ecb0466d904
CREATED;VALUE=DATE-TIME:20080113T000000Z
CATEGORIES:Esports
LOCATION:Camp municipal d'Esports
ORGANIZER:CE Llavaneres
DESCRIPTION:CE Llavaneres-Ronda CD
URL:https://ajllavaneres.cat/document.php?id=1022
END:VEVENT
END:VCALENDAR