BEGIN:VCALENDAR
VERSION:2.0
PRODID:-//Plone.org//NONSGML plone.app.event//EN
X-WR-TIMEZONE:Europe/Madrid
BEGIN:VEVENT
SUMMARY:L'hora del conte: "La castanyera i altres contes de tardor"
DTSTART;TZID=Europe/Madrid;VALUE=DATE-TIME:20161119T120000
DTEND;TZID=Europe/Madrid;VALUE=DATE-TIME:20161119T130000
DTSTAMP;VALUE=DATE-TIME:20260420T053748Z
UID:dfbc6c73b3554c86aca91a324e690a4f
CREATED;VALUE=DATE-TIME:20161119T000000Z
CATEGORIES:Infantils
LOCATION:Sala infantil de la Biblioteca Municipal
ORGANIZER:Biblioteca Muncipal; Regidoria de Cultura
DESCRIPTION:A càrrec de la rondallaire Assumpta Mercader
URL:https://ajllavaneres.cat/document.php?id=10223
END:VEVENT
END:VCALENDAR