BEGIN:VCALENDAR
VERSION:2.0
PRODID:-//Plone.org//NONSGML plone.app.event//EN
X-WR-TIMEZONE:Europe/Madrid
BEGIN:VEVENT
SUMMARY:Bàsquet Pre mini masculí A
DTSTART;TZID=Europe/Madrid;VALUE=DATE-TIME:20080112T090000
DTEND;TZID=Europe/Madrid;VALUE=DATE-TIME:20080112T100000
DTSTAMP;VALUE=DATE-TIME:20260419T203048Z
UID:d127f121d3de42f3d6e3ee3985a98f99
CREATED;VALUE=DATE-TIME:20080112T000000Z
CATEGORIES:Esports
LOCATION:Pavelló municipal
ORGANIZER:CB Llavaneres
DESCRIPTION:CB Llavaneres-AEE Col·legi Cultural A
URL:https://ajllavaneres.cat/document.php?id=1027
END:VEVENT
END:VCALENDAR