BEGIN:VCALENDAR
VERSION:2.0
PRODID:-//Plone.org//NONSGML plone.app.event//EN
X-WR-TIMEZONE:Europe/Madrid
BEGIN:VEVENT
SUMMARY:Bàsquet Júnior B
DTSTART;TZID=Europe/Madrid;VALUE=DATE-TIME:20080113T120000
DTEND;TZID=Europe/Madrid;VALUE=DATE-TIME:20080113T130000
DTSTAMP;VALUE=DATE-TIME:20260420T010006Z
UID:45b3356d878c6cba76342c7b1e1e257f
CREATED;VALUE=DATE-TIME:20080113T000000Z
CATEGORIES:Esports
LOCATION:Pavelló municipal
ORGANIZER:CB Llavaneres
DESCRIPTION:CB Llavaneres-CB Sentmenat
URL:https://ajllavaneres.cat/document.php?id=1028
END:VEVENT
END:VCALENDAR