BEGIN:VCALENDAR
VERSION:2.0
PRODID:-//Plone.org//NONSGML plone.app.event//EN
X-WR-TIMEZONE:Europe/Madrid
BEGIN:VEVENT
SUMMARY:Romeria al Corredor
DTSTART;TZID=Europe/Madrid;VALUE=DATE-TIME:20160402T090000
DTEND;TZID=Europe/Madrid;VALUE=DATE-TIME:20160402T100000
DTSTAMP;VALUE=DATE-TIME:20260419T164950Z
UID:101cb9cf8ab88ac63d42370dc9f8b2bd
CREATED;VALUE=DATE-TIME:20160402T000000Z
LOCATION:Parròquia de Sant Andreu de Llavaneres (sortida)
ORGANIZER:Arxiprestat de Mataró. Parròquia de Sant Andreu de Llavaneres
COMMENT:Preu: Dinar: 13 &euro;; Autobús: 12 &euro;
DESCRIPTION:Celebració de la Pasqua
URL:https://ajllavaneres.cat/document.php?id=10288
END:VEVENT
END:VCALENDAR