BEGIN:VCALENDAR
VERSION:2.0
PRODID:-//Plone.org//NONSGML plone.app.event//EN
X-WR-TIMEZONE:Europe/Madrid
BEGIN:VEVENT
SUMMARY:Bàsquet Júnior A
DTSTART;TZID=Europe/Madrid;VALUE=DATE-TIME:20080113T160000
DTEND;TZID=Europe/Madrid;VALUE=DATE-TIME:20080113T170000
DTSTAMP;VALUE=DATE-TIME:20260419T164917Z
UID:dab66a0340161961d743472b6f602c8b
CREATED;VALUE=DATE-TIME:20080113T000000Z
CATEGORIES:Esports
LOCATION:Pavelló municipal
DESCRIPTION:CB Llavaneres- CE Les Franqueses
URL:https://ajllavaneres.cat/document.php?id=1029
END:VEVENT
END:VCALENDAR