BEGIN:VCALENDAR
VERSION:2.0
PRODID:-//Plone.org//NONSGML plone.app.event//EN
X-WR-TIMEZONE:Europe/Madrid
BEGIN:VEVENT
SUMMARY:Exposició dels alumnes de visual i plàstica de l'Institut de Llavaneres
DTSTART;TZID=Europe/Madrid;VALUE=DATE-TIME:20160512T193000
DTEND;TZID=Europe/Madrid;VALUE=DATE-TIME:20160512T203000
DTSTAMP;VALUE=DATE-TIME:20260419T233239Z
UID:174ac3384b63f32c679d0fc8bdf7cbbb
CREATED;VALUE=DATE-TIME:20160512T000000Z
CATEGORIES:Exposició
LOCATION:Museu-Arxiu de Llavaneres. Can Caralt
ORGANIZER:Museu Arxiu de Sant Andreu de Llavaneres
COMMENT:Preu: gratuït
Durada: Fins al 22 de maig
URL:https://ajllavaneres.cat/document.php?id=10292
END:VEVENT
END:VCALENDAR