BEGIN:VCALENDAR
VERSION:2.0
PRODID:-//Plone.org//NONSGML plone.app.event//EN
X-WR-TIMEZONE:Europe/Madrid
BEGIN:VEVENT
SUMMARY:Xerrada per a adults
DTSTART;TZID=Europe/Madrid;VALUE=DATE-TIME:20160507T120000
DTEND;TZID=Europe/Madrid;VALUE=DATE-TIME:20160507T130000
DTSTAMP;VALUE=DATE-TIME:20260420T075051Z
UID:7db0b541cf9f1e5277b8fcc0f440dc24
CREATED;VALUE=DATE-TIME:20160507T000000Z
CATEGORIES:Literatura
LOCATION:Sala d'actes de la Biblioteca Municipal
ORGANIZER:Biblioteca Municipal; Regidoria de Cultura
DESCRIPTION:Presentació del llibre: "T'estimaré fins que em mori", a càrrec de la seva autora Gemma Minguillón
URL:https://ajllavaneres.cat/document.php?id=10342
END:VEVENT
END:VCALENDAR