BEGIN:VCALENDAR
VERSION:2.0
PRODID:-//Plone.org//NONSGML plone.app.event//EN
X-WR-TIMEZONE:Europe/Madrid
BEGIN:VEVENT
SUMMARY:60è Homenatge a la Vellesa
DTSTART;TZID=Europe/Madrid;VALUE=DATE-TIME:20160904T113000
DTEND;TZID=Europe/Madrid;VALUE=DATE-TIME:20160904T123000
DTSTAMP;VALUE=DATE-TIME:20260423T022613Z
UID:6d05fd16254f62e1808976c3da63df04
CREATED;VALUE=DATE-TIME:20160904T000000Z
CATEGORIES:Festa
LOCATION:Església parroquial de Sant Andreu de Llavaneres/ Parc de Ca l'Alfaro. En cas de pluja, pavelló municipal
ORGANIZER:Patronat de la Vellesa, amb la col·laboració de l'Ajuntament de Sant Andreu de Llavaneres
COMMENT:Preu: 20 &euro; per acompanyants i familariars. Els majors de 75 anys estan convidats.
DESCRIPTION:Adreçat a majors de 75 anys
URL:https://ajllavaneres.cat/document.php?id=10530
END:VEVENT
END:VCALENDAR