BEGIN:VCALENDAR
VERSION:2.0
PRODID:-//Plone.org//NONSGML plone.app.event//EN
X-WR-TIMEZONE:Europe/Madrid
BEGIN:VEVENT
SUMMARY:Futbol 7 pre benjamí A
DTSTART;TZID=Europe/Madrid;VALUE=DATE-TIME:20080119T100000
DTEND;TZID=Europe/Madrid;VALUE=DATE-TIME:20080119T110000
DTSTAMP;VALUE=DATE-TIME:20260419T152345Z
UID:0dc68826be5db2b0bf902255ecb68e77
CREATED;VALUE=DATE-TIME:20080119T000000Z
CATEGORIES:Esports
LOCATION:Camp municipal d'Esports Camp 1
ORGANIZER:Escola de Llavaneres CF
DESCRIPTION:Escola de Llavaneres CF- Fundació Privada Mataró A
URL:https://ajllavaneres.cat/document.php?id=1068
END:VEVENT
END:VCALENDAR