BEGIN:VCALENDAR
VERSION:2.0
PRODID:-//Plone.org//NONSGML plone.app.event//EN
X-WR-TIMEZONE:Europe/Madrid
BEGIN:VEVENT
SUMMARY:Futbol 7 benjamí B
DTSTART;TZID=Europe/Madrid;VALUE=DATE-TIME:20080119T120000
DTEND;TZID=Europe/Madrid;VALUE=DATE-TIME:20080119T130000
DTSTAMP;VALUE=DATE-TIME:20260419T162653Z
UID:3d71e9e587406f48befbc1d6b98382c8
CREATED;VALUE=DATE-TIME:20080119T000000Z
CATEGORIES:Esports
LOCATION:Camp municipal d'Esports Camp 1
ORGANIZER:Escola de Llavaneres CF
DESCRIPTION:Escola de Llavaneres CF-St. Pol At. B
URL:https://ajllavaneres.cat/document.php?id=1069
END:VEVENT
END:VCALENDAR