BEGIN:VCALENDAR
VERSION:2.0
PRODID:-//Plone.org//NONSGML plone.app.event//EN
X-WR-TIMEZONE:Europe/Madrid
BEGIN:VEVENT
SUMMARY:Futbol 7 Aleví
DTSTART;TZID=Europe/Madrid;VALUE=DATE-TIME:20080120T100000
DTEND;TZID=Europe/Madrid;VALUE=DATE-TIME:20080120T110000
DTSTAMP;VALUE=DATE-TIME:20260422T160817Z
UID:633265295552fa5eb2da33c866a72821
CREATED;VALUE=DATE-TIME:20080120T000000Z
CATEGORIES:Esports
LOCATION:Camp municipal d'Esports
ORGANIZER:Escola de Llavaneres CF
DESCRIPTION:Escola de Llavaneres CF-Penya Barcelonista Villaverde
URL:https://ajllavaneres.cat/document.php?id=1072
END:VEVENT
END:VCALENDAR