BEGIN:VCALENDAR
VERSION:2.0
PRODID:-//Plone.org//NONSGML plone.app.event//EN
X-WR-TIMEZONE:Europe/Madrid
BEGIN:VEVENT
SUMMARY:Futbol 2n equip
DTSTART;TZID=Europe/Madrid;VALUE=DATE-TIME:20080120T120000
DTEND;TZID=Europe/Madrid;VALUE=DATE-TIME:20080120T130000
DTSTAMP;VALUE=DATE-TIME:20260419T223333Z
UID:4991c507f62e405137fafc84bfa71699
CREATED;VALUE=DATE-TIME:20080120T000000Z
CATEGORIES:Esports
LOCATION:Camp municipal d'Esports
ORGANIZER:CE Llavaneres
DESCRIPTION:CE Llavaneres-Cabrils CE
URL:https://ajllavaneres.cat/document.php?id=1073
END:VEVENT
END:VCALENDAR