BEGIN:VCALENDAR
VERSION:2.0
PRODID:-//Plone.org//NONSGML plone.app.event//EN
X-WR-TIMEZONE:Europe/Madrid
BEGIN:VEVENT
SUMMARY:Bàsquet mini femení B
DTSTART;TZID=Europe/Madrid;VALUE=DATE-TIME:20080118T184500
DTEND;TZID=Europe/Madrid;VALUE=DATE-TIME:20080118T194500
DTSTAMP;VALUE=DATE-TIME:20260420T010051Z
UID:b9b2e446263560496536fc15f87a3533
CREATED;VALUE=DATE-TIME:20080118T000000Z
CATEGORIES:Esports
LOCATION:Pavelló municipal
ORGANIZER:CE Serena Mar i CB Llavaneres
DESCRIPTION:CE Serena Mar-UE St. Fost Bàsquet
URL:https://ajllavaneres.cat/document.php?id=1074
END:VEVENT
END:VCALENDAR