BEGIN:VCALENDAR
VERSION:2.0
PRODID:-//Plone.org//NONSGML plone.app.event//EN
X-WR-TIMEZONE:Europe/Madrid
BEGIN:VEVENT
SUMMARY:Tribut a Shakespeare
DTSTART;TZID=Europe/Madrid;VALUE=DATE-TIME:20160910T080000
DTEND;TZID=Europe/Madrid;VALUE=DATE-TIME:20160910T090000
DTSTAMP;VALUE=DATE-TIME:20260422T225101Z
UID:f5567d1ebcaa6b80a1ae47e49e4dd18e
CREATED;VALUE=DATE-TIME:20160910T000000Z
LOCATION:Sortida en autocar
ORGANIZER:Secció de Cultura d'El Casal de Llavaneres
DESCRIPTION:Sortida a la Fira de Teatre de Tàrrega
URL:https://ajllavaneres.cat/document.php?id=10776
END:VEVENT
END:VCALENDAR