BEGIN:VCALENDAR
VERSION:2.0
PRODID:-//Plone.org//NONSGML plone.app.event//EN
X-WR-TIMEZONE:Europe/Madrid
BEGIN:VEVENT
SUMMARY:Tribut a Shakespeare
DTSTART;TZID=Europe/Madrid;VALUE=DATE-TIME:20160917T220000
DTEND;TZID=Europe/Madrid;VALUE=DATE-TIME:20160917T230000
DTSTAMP;VALUE=DATE-TIME:20260422T210358Z
UID:f081de6532b9baa08087998c37029c96
CREATED;VALUE=DATE-TIME:20160917T000000Z
LOCATION:Sala Polivalent d'El Casal de Llavaneres
ORGANIZER:Secció de Cultura d'El Casal de Llavaneres
DESCRIPTION:Nit de cinema: "El sueño de una noche de verano"
URL:https://ajllavaneres.cat/document.php?id=10777
END:VEVENT
END:VCALENDAR