BEGIN:VCALENDAR
VERSION:2.0
PRODID:-//Plone.org//NONSGML plone.app.event//EN
X-WR-TIMEZONE:Europe/Madrid
BEGIN:VEVENT
SUMMARY:Sortida de gegants a les Borges Blanques
DTSTART;TZID=Europe/Madrid;VALUE=DATE-TIME:20160903T235900
DTEND;TZID=Europe/Madrid;VALUE=DATE-TIME:20160904T005900
DTSTAMP;VALUE=DATE-TIME:20260423T023940Z
UID:e89ba2d971697b2e982ed9f5c7d4c047
CREATED;VALUE=DATE-TIME:20160903T000000Z
CATEGORIES:Festa,Infantils
LOCATION:Sortida i arribada al Casal
ORGANIZER:Secció de Tradicions i Festes Catalanes del Casal
URL:https://ajllavaneres.cat/document.php?id=10844
END:VEVENT
END:VCALENDAR