BEGIN:VCALENDAR
VERSION:2.0
PRODID:-//Plone.org//NONSGML plone.app.event//EN
X-WR-TIMEZONE:Europe/Madrid
BEGIN:VEVENT
SUMMARY:Nit de Cinema: "To be or no to be"
DTSTART;TZID=Europe/Madrid;VALUE=DATE-TIME:20161105T220000
DTEND;TZID=Europe/Madrid;VALUE=DATE-TIME:20161105T230000
DTSTAMP;VALUE=DATE-TIME:20260419T192715Z
UID:3c724d09a693380de1b7cccf81fdf357
CREATED;VALUE=DATE-TIME:20161105T000000Z
LOCATION:El Casal de Llavaneres (Sala de lectura)
ORGANIZER:Secció de Cultura del Casal de Llavaneres
COMMENT:Preu: 3 &euro; (no socis)
DESCRIPTION:Tribut a Shakespeare amb motiu dels 400 anys de la seva mort
URL:https://ajllavaneres.cat/document.php?id=10892
END:VEVENT
END:VCALENDAR