BEGIN:VCALENDAR
VERSION:2.0
PRODID:-//Plone.org//NONSGML plone.app.event//EN
X-WR-TIMEZONE:Europe/Madrid
BEGIN:VEVENT
SUMMARY:Can Caralt i la màquina del temps
DTSTART;TZID=Europe/Madrid;VALUE=DATE-TIME:20161105T120000
DTEND;TZID=Europe/Madrid;VALUE=DATE-TIME:20161105T130000
DTSTAMP;VALUE=DATE-TIME:20260423T145525Z
UID:a5e58563d63ea6399b5895e1adc40746
CREATED;VALUE=DATE-TIME:20161105T000000Z
CATEGORIES:Infantils
LOCATION:Museu-Arxiu de Llavaneres. Can Caralt - Carretera de Sant Vicenç, 14
ORGANIZER:Museu Arxiu de Sant Andreu de Llavaneres
COMMENT:Preu: gratuït
DESCRIPTION:Activitat familiar al Museu
URL:https://ajllavaneres.cat/document.php?id=10904
END:VEVENT
END:VCALENDAR