BEGIN:VCALENDAR
VERSION:2.0
PRODID:-//Plone.org//NONSGML plone.app.event//EN
X-WR-TIMEZONE:Europe/Madrid
BEGIN:VEVENT
SUMMARY:Taller: "Autoprotecció i Suport Vital Bàsic"
DTSTART;TZID=Europe/Madrid;VALUE=DATE-TIME:20161105T093000
DTEND;TZID=Europe/Madrid;VALUE=DATE-TIME:20161105T103000
DTSTAMP;VALUE=DATE-TIME:20260419T210354Z
UID:267ab5333678abb5af742772739e8b23
CREATED;VALUE=DATE-TIME:20161105T000000Z
CATEGORIES:Conferència
LOCATION:Sala d'actes de la Biblioteca Municipal - Closens, 65
ORGANIZER:Diputació de Barcelona i Salut Pública. A càrrec de SIS Prevenció
COMMENT:Preu: gratuït
Durada: Fins a les 13:30 hores
URL:https://ajllavaneres.cat/document.php?id=10906
END:VEVENT
END:VCALENDAR