BEGIN:VCALENDAR
VERSION:2.0
PRODID:-//Plone.org//NONSGML plone.app.event//EN
X-WR-TIMEZONE:Europe/Madrid
BEGIN:VEVENT
SUMMARY:19a Mostra de Teatre Dani Tàpias
DTSTART;TZID=Europe/Madrid;VALUE=DATE-TIME:20161015T220000
DTEND;TZID=Europe/Madrid;VALUE=DATE-TIME:20161015T230000
DTSTAMP;VALUE=DATE-TIME:20260419T143252Z
UID:9820660c10cdef43a496c51dedf61df6
CREATED;VALUE=DATE-TIME:20161015T000000Z
CATEGORIES:Teatre
LOCATION:El Casal de Llavaneres (Sala Polivalent)
ORGANIZER:Secció de Teatre del Casal de Llavaneres
DESCRIPTION:'Descalços pel parc' a càrrec del Centre Parroquial de Canet
URL:https://ajllavaneres.cat/document.php?id=10931
END:VEVENT
END:VCALENDAR