BEGIN:VCALENDAR
VERSION:2.0
PRODID:-//Plone.org//NONSGML plone.app.event//EN
X-WR-TIMEZONE:Europe/Madrid
BEGIN:VEVENT
SUMMARY:Curs de Seguretat alimentària
DTSTART;TZID=Europe/Madrid;VALUE=DATE-TIME:20161123T150000
DTEND;TZID=Europe/Madrid;VALUE=DATE-TIME:20161123T160000
DTSTAMP;VALUE=DATE-TIME:20260420T032418Z
UID:342886db056233520d1a220812775763
CREATED;VALUE=DATE-TIME:20161123T000000Z
CATEGORIES:Conferència
LOCATION:Sala d'actes de la Biblioteca Municipal - Closens, 65
ORGANIZER:Consell Comarcal del Maresme
COMMENT:Preu: 25 &euro;
Durada: 5 hores
DESCRIPTION:Formació per a manipuladors d'aliments
URL:https://ajllavaneres.cat/document.php?id=10980
END:VEVENT
END:VCALENDAR