BEGIN:VCALENDAR
VERSION:2.0
PRODID:-//Plone.org//NONSGML plone.app.event//EN
X-WR-TIMEZONE:Europe/Madrid
BEGIN:VEVENT
SUMMARY:Futbol Sala Benjamí mixte
DTSTART;TZID=Europe/Madrid;VALUE=DATE-TIME:20080126T103000
DTEND;TZID=Europe/Madrid;VALUE=DATE-TIME:20080126T113000
DTSTAMP;VALUE=DATE-TIME:20260420T015312Z
UID:83c443cf3d9b97ab3cc4197e4cb41c2d
CREATED;VALUE=DATE-TIME:20080126T000000Z
CATEGORIES:Esports
LOCATION:Pavelló municipal
ORGANIZER:CE Serena Mar
DESCRIPTION:CE Serena Mar-Immaculada
URL:https://ajllavaneres.cat/document.php?id=1099
END:VEVENT
END:VCALENDAR