BEGIN:VCALENDAR
VERSION:2.0
PRODID:-//Plone.org//NONSGML plone.app.event//EN
X-WR-TIMEZONE:Europe/Madrid
BEGIN:VEVENT
SUMMARY:Futbol Sala Aleví
DTSTART;TZID=Europe/Madrid;VALUE=DATE-TIME:20080126T113000
DTEND;TZID=Europe/Madrid;VALUE=DATE-TIME:20080126T123000
DTSTAMP;VALUE=DATE-TIME:20260419T174531Z
UID:68f18829a8e2675eb6722334f8c9e3f4
CREATED;VALUE=DATE-TIME:20080126T000000Z
CATEGORIES:Esports
LOCATION:Pavelló municipal
ORGANIZER:CE Serena Mar
DESCRIPTION:CE Serena Mar-CE Arenys de Munt
URL:https://ajllavaneres.cat/document.php?id=1100
END:VEVENT
END:VCALENDAR