BEGIN:VCALENDAR
VERSION:2.0
PRODID:-//Plone.org//NONSGML plone.app.event//EN
X-WR-TIMEZONE:Europe/Madrid
BEGIN:VEVENT
SUMMARY:Bàsquet mini masculí
DTSTART;TZID=Europe/Madrid;VALUE=DATE-TIME:20080125T184500
DTEND;TZID=Europe/Madrid;VALUE=DATE-TIME:20080125T194500
DTSTAMP;VALUE=DATE-TIME:20260419T161202Z
UID:47586c9a911a34886942f98d89a3c524
CREATED;VALUE=DATE-TIME:20080125T000000Z
CATEGORIES:Esports
LOCATION:Pavelló municipal
ORGANIZER:CE Serena Mar i CB Llavaneres
DESCRIPTION:CE Serena Mar Llavaneres B-Arenys Bàsquet "3"
URL:https://ajllavaneres.cat/document.php?id=1101
END:VEVENT
END:VCALENDAR