BEGIN:VCALENDAR
VERSION:2.0
PRODID:-//Plone.org//NONSGML plone.app.event//EN
X-WR-TIMEZONE:Europe/Madrid
BEGIN:VEVENT
SUMMARY:Bàsquet Pre mini masculí A
DTSTART;TZID=Europe/Madrid;VALUE=DATE-TIME:20080126T090000
DTEND;TZID=Europe/Madrid;VALUE=DATE-TIME:20080126T100000
DTSTAMP;VALUE=DATE-TIME:20260419T234450Z
UID:956b156b0b118ac543e141f8c3c26148
CREATED;VALUE=DATE-TIME:20080126T000000Z
CATEGORIES:Esports
LOCATION:Pavelló municipal
ORGANIZER:CB Llavaneres
DESCRIPTION:CB Llavaneres-AE Minguella Credit Services A
URL:https://ajllavaneres.cat/document.php?id=1102
END:VEVENT
END:VCALENDAR