BEGIN:VCALENDAR
VERSION:2.0
PRODID:-//Plone.org//NONSGML plone.app.event//EN
X-WR-TIMEZONE:Europe/Madrid
BEGIN:VEVENT
SUMMARY:Bàsquet Júnior B
DTSTART;TZID=Europe/Madrid;VALUE=DATE-TIME:20080127T173000
DTEND;TZID=Europe/Madrid;VALUE=DATE-TIME:20080127T183000
DTSTAMP;VALUE=DATE-TIME:20260420T022953Z
UID:aae0a3d4681eb63350f069bd48c49a0d
CREATED;VALUE=DATE-TIME:20080127T000000Z
CATEGORIES:Esports
LOCATION:Pavelló municipal
ORGANIZER:CB Llavaneres
DESCRIPTION:CB Llavaneres-CB Ripollet B
URL:https://ajllavaneres.cat/document.php?id=1103
END:VEVENT
END:VCALENDAR