BEGIN:VCALENDAR
VERSION:2.0
PRODID:-//Plone.org//NONSGML plone.app.event//EN
X-WR-TIMEZONE:Europe/Madrid
BEGIN:VEVENT
SUMMARY:Bàsquet Júnior A
DTSTART;TZID=Europe/Madrid;VALUE=DATE-TIME:20080127T160000
DTEND;TZID=Europe/Madrid;VALUE=DATE-TIME:20080127T170000
DTSTAMP;VALUE=DATE-TIME:20260419T195116Z
UID:1fa51616261fd0ccaa4a62b57243ec24
CREATED;VALUE=DATE-TIME:20080127T000000Z
CATEGORIES:Esports
LOCATION:Pavelló municipal
ORGANIZER:CB Llavaneres
DESCRIPTION:CB Llavaneres-CB l'Ametlla
URL:https://ajllavaneres.cat/document.php?id=1104
END:VEVENT
END:VCALENDAR