BEGIN:VCALENDAR
VERSION:2.0
PRODID:-//Plone.org//NONSGML plone.app.event//EN
X-WR-TIMEZONE:Europe/Madrid
BEGIN:VEVENT
SUMMARY:3a Inndòmit
DTSTART;TZID=Europe/Madrid;VALUE=DATE-TIME:20161106T090000
DTEND;TZID=Europe/Madrid;VALUE=DATE-TIME:20161106T100000
DTSTAMP;VALUE=DATE-TIME:20260420T015138Z
UID:7360fdb7c2d5f90d45e3624fdb0ff117
CREATED;VALUE=DATE-TIME:20161106T000000Z
CATEGORIES:Esports
LOCATION:Passeig de Jaume Brutau
ORGANIZER:Besttrail
DESCRIPTION:Duatló de muntanya
URL:https://ajllavaneres.cat/document.php?id=11047
END:VEVENT
END:VCALENDAR