BEGIN:VCALENDAR
VERSION:2.0
PRODID:-//Plone.org//NONSGML plone.app.event//EN
X-WR-TIMEZONE:Europe/Madrid
BEGIN:VEVENT
SUMMARY:Lectura del manifest de Dia Internacional de la No Violència contra les Dones
DTSTART;TZID=Europe/Madrid;VALUE=DATE-TIME:20161125T120000
DTEND;TZID=Europe/Madrid;VALUE=DATE-TIME:20161125T130000
DTSTAMP;VALUE=DATE-TIME:20260419T205117Z
UID:20f2d1a4bb68d42088fe79b15174181a
CREATED;VALUE=DATE-TIME:20161125T000000Z
LOCATION:Plaça de la Vila
ORGANIZER:Regidoria de Benestar Social. Hi col·labora: Diputació de Barcelona
URL:https://ajllavaneres.cat/document.php?id=11048
END:VEVENT
END:VCALENDAR