BEGIN:VCALENDAR
VERSION:2.0
PRODID:-//Plone.org//NONSGML plone.app.event//EN
X-WR-TIMEZONE:Europe/Madrid
BEGIN:VEVENT
SUMMARY:Futbol 7 Pre benjamí C
DTSTART;TZID=Europe/Madrid;VALUE=DATE-TIME:20080126T094500
DTEND;TZID=Europe/Madrid;VALUE=DATE-TIME:20080126T104500
DTSTAMP;VALUE=DATE-TIME:20260419T204007Z
UID:341d49f535537605f0435e9b4a140f51
CREATED;VALUE=DATE-TIME:20080126T000000Z
CATEGORIES:Esports
LOCATION:Camp municipal d'Esports
ORGANIZER:Escola de Llavaneres CF
DESCRIPTION:Escola de Llavaneres CF-Premià de Dalt CD
URL:https://ajllavaneres.cat/document.php?id=1106
END:VEVENT
END:VCALENDAR