BEGIN:VCALENDAR
VERSION:2.0
PRODID:-//Plone.org//NONSGML plone.app.event//EN
X-WR-TIMEZONE:Europe/Madrid
BEGIN:VEVENT
SUMMARY:Teatre: "Algún amor que no mate"
DTSTART;TZID=Europe/Madrid;VALUE=DATE-TIME:20161112T213000
DTEND;TZID=Europe/Madrid;VALUE=DATE-TIME:20161112T223000
DTSTAMP;VALUE=DATE-TIME:20260419T210424Z
UID:9cf72e7dba5de09b659bfa3ef975f5fc
CREATED;VALUE=DATE-TIME:20161112T000000Z
CATEGORIES:Teatre
LOCATION:El Casal de Llavaneres (Sala Polivalent)
ORGANIZER:Secció de Teatre del Casal de Llavaneres
DESCRIPTION:De Dulce Chacón. Interpretada per Lapsus Teatre
URL:https://ajllavaneres.cat/document.php?id=11062
END:VEVENT
END:VCALENDAR