BEGIN:VCALENDAR
VERSION:2.0
PRODID:-//Plone.org//NONSGML plone.app.event//EN
X-WR-TIMEZONE:Europe/Madrid
BEGIN:VEVENT
SUMMARY:Futbol Infantil B
DTSTART;TZID=Europe/Madrid;VALUE=DATE-TIME:20080127T100000
DTEND;TZID=Europe/Madrid;VALUE=DATE-TIME:20080127T110000
DTSTAMP;VALUE=DATE-TIME:20260420T015108Z
UID:e5256e33f4fd4eb1ace31b8d321538f5
CREATED;VALUE=DATE-TIME:20080127T000000Z
CATEGORIES:Esports
LOCATION:Camp municipal d'Esports
ORGANIZER:Escola de Llavaneres CF
DESCRIPTION:Escola de Llavaneres CF-Arenys de Mar CF
URL:https://ajllavaneres.cat/document.php?id=1107
END:VEVENT
END:VCALENDAR