BEGIN:VCALENDAR
VERSION:2.0
PRODID:-//Plone.org//NONSGML plone.app.event//EN
X-WR-TIMEZONE:Europe/Madrid
BEGIN:VEVENT
SUMMARY:Escola de Mares i Pares: 'Escolta activa i empatia'
DTSTART;TZID=Europe/Madrid;VALUE=DATE-TIME:20161116T193000
DTEND;TZID=Europe/Madrid;VALUE=DATE-TIME:20161116T203000
DTSTAMP;VALUE=DATE-TIME:20260420T003957Z
UID:86b9b84a56aec1ed304f96cb73d8f4cc
CREATED;VALUE=DATE-TIME:20161116T000000Z
LOCATION:Casal de Joves de Llavaneres
ORGANIZER:Regidoria de Joventut
URL:https://ajllavaneres.cat/document.php?id=11070
END:VEVENT
END:VCALENDAR