BEGIN:VCALENDAR
VERSION:2.0
PRODID:-//Plone.org//NONSGML plone.app.event//EN
X-WR-TIMEZONE:Europe/Madrid
BEGIN:VEVENT
SUMMARY:Escola de Mares i Pares: 'Què és la resilència? Per què és tan important desenvolupar aquesta capacitat?'
DTSTART;TZID=Europe/Madrid;VALUE=DATE-TIME:20170118T193000
DTEND;TZID=Europe/Madrid;VALUE=DATE-TIME:20170118T203000
DTSTAMP;VALUE=DATE-TIME:20260422T160749Z
UID:aad6ecd685194e7e1f3dc6831dce5035
CREATED;VALUE=DATE-TIME:20170118T000000Z
LOCATION:Casal de Joves de Llavaneres
ORGANIZER:Regidoria de Joventut
URL:https://ajllavaneres.cat/document.php?id=11072
END:VEVENT
END:VCALENDAR