BEGIN:VCALENDAR
VERSION:2.0
PRODID:-//Plone.org//NONSGML plone.app.event//EN
X-WR-TIMEZONE:Europe/Madrid
BEGIN:VEVENT
SUMMARY:Futbol Infantil A
DTSTART;TZID=Europe/Madrid;VALUE=DATE-TIME:20080126T113000
DTEND;TZID=Europe/Madrid;VALUE=DATE-TIME:20080126T123000
DTSTAMP;VALUE=DATE-TIME:20260423T054130Z
UID:ca0df790c39046fda6012a93c58893cd
CREATED;VALUE=DATE-TIME:20080126T000000Z
CATEGORIES:Esports
LOCATION:Camp municipal d'Esports
ORGANIZER:Escola de Llavaneres CF
DESCRIPTION:Escola de Llavaneres CF-Palafolls CD
URL:https://ajllavaneres.cat/document.php?id=1108
END:VEVENT
END:VCALENDAR