BEGIN:VCALENDAR
VERSION:2.0
PRODID:-//Plone.org//NONSGML plone.app.event//EN
X-WR-TIMEZONE:Europe/Madrid
BEGIN:VEVENT
SUMMARY:Anem a buscar bolets
DTSTART;TZID=Europe/Madrid;VALUE=DATE-TIME:20161106T080000
DTEND;TZID=Europe/Madrid;VALUE=DATE-TIME:20161106T090000
DTSTAMP;VALUE=DATE-TIME:20260419T205543Z
UID:490b4cbb5b0a34ed9f5fb689555dd293
CREATED;VALUE=DATE-TIME:20161106T000000Z
CATEGORIES:Esports
LOCATION:El Casal de Llavaneres (Sala Polivalent)
ORGANIZER:Secció de Tradicions i Festes Catalanes del Casal
COMMENT:Preu: 10 &euro;
URL:https://ajllavaneres.cat/document.php?id=11083
END:VEVENT
END:VCALENDAR