BEGIN:VCALENDAR
VERSION:2.0
PRODID:-//Plone.org//NONSGML plone.app.event//EN
X-WR-TIMEZONE:Europe/Madrid
BEGIN:VEVENT
SUMMARY:Anem al Castell de Boixadors (Sant Pere de Sallavinera)
DTSTART;TZID=Europe/Madrid;VALUE=DATE-TIME:20161110T070000
DTEND;TZID=Europe/Madrid;VALUE=DATE-TIME:20161110T080000
DTSTAMP;VALUE=DATE-TIME:20260419T192445Z
UID:0cadff68852a1422eb4710578b5d10b6
CREATED;VALUE=DATE-TIME:20161110T000000Z
CATEGORIES:Esports
LOCATION:Passeig de Jaume Brutau (davant del CAP)
ORGANIZER:Secció Sènior del Casal de Llavaneres
URL:https://ajllavaneres.cat/document.php?id=11084
END:VEVENT
END:VCALENDAR