BEGIN:VCALENDAR
VERSION:2.0
PRODID:-//Plone.org//NONSGML plone.app.event//EN
X-WR-TIMEZONE:Europe/Madrid
BEGIN:VEVENT
SUMMARY:Sortida a la riera de les Gorgues (Sau-Susqueda)
DTSTART;TZID=Europe/Madrid;VALUE=DATE-TIME:20161117T070000
DTEND;TZID=Europe/Madrid;VALUE=DATE-TIME:20161117T080000
DTSTAMP;VALUE=DATE-TIME:20260419T203954Z
UID:97e5c22b48c5ff5672e7a7c9e689c97b
CREATED;VALUE=DATE-TIME:20161117T000000Z
CATEGORIES:Esports
LOCATION:Passeig de Jaume Brutau (davant del CAP)
ORGANIZER:Secció Sènior del Casal de Llavaneres
URL:https://ajllavaneres.cat/document.php?id=11085
END:VEVENT
END:VCALENDAR