BEGIN:VCALENDAR
VERSION:2.0
PRODID:-//Plone.org//NONSGML plone.app.event//EN
X-WR-TIMEZONE:Europe/Madrid
BEGIN:VEVENT
SUMMARY:Teatre: 'El carrer Franklin'
DTSTART;TZID=Europe/Madrid;VALUE=DATE-TIME:20161119T213000
DTEND;TZID=Europe/Madrid;VALUE=DATE-TIME:20161119T223000
DTSTAMP;VALUE=DATE-TIME:20260419T223348Z
UID:6333164cc2308b04b4caa46e9a205280
CREATED;VALUE=DATE-TIME:20161119T000000Z
CATEGORIES:Teatre
LOCATION:El Casal de Llavaneres (Sala Polivalent)
ORGANIZER:Secció de Teatre del Casal de Llavaneres
DESCRIPTION:Amb la Inestable del Casal, de Lluïsa Cunillé
URL:https://ajllavaneres.cat/document.php?id=11089
END:VEVENT
END:VCALENDAR