BEGIN:VCALENDAR
VERSION:2.0
PRODID:-//Plone.org//NONSGML plone.app.event//EN
X-WR-TIMEZONE:Europe/Madrid
BEGIN:VEVENT
SUMMARY:31a Marxa i Cursa Popular de Sant Andreu
DTSTART;TZID=Europe/Madrid;VALUE=DATE-TIME:20161120T080000
DTEND;TZID=Europe/Madrid;VALUE=DATE-TIME:20161120T090000
DTSTAMP;VALUE=DATE-TIME:20260419T225041Z
UID:db33a337fe9d5c299e3222b293ffba27
CREATED;VALUE=DATE-TIME:20161120T000000Z
CATEGORIES:Esports
LOCATION:Sortida i arribada del Casal de Llavaneres
ORGANIZER:Secció Esportiva del Casal de Llavaneres
COMMENT:Preu: socis: 8 euros, no socis: 10 euros. El mateix dia 2 euros més.
URL:https://ajllavaneres.cat/document.php?id=11097
END:VEVENT
END:VCALENDAR